BEGIN:VCALENDAR
VERSION:2.0
PRODID:-//www.ssbtr.org//NONSGML kigkonsult.se iCalcreator 2.30.10//
CALSCALE:GREGORIAN
METHOD:PUBLISH
UID:1a58058e-1458-451f-935e-bd3ad9eeb413
X-WR-CALDESC:
X-WR-RELCALID:15389f0e77a11e1349bc9e749efe7b8e
X-WR-TIMEZONE:America/Denver
BEGIN:VTIMEZONE
TZID:America/Denver
BEGIN:STANDARD
TZNAME:MST
DTSTART:20181104T020000
TZOFFSETFROM:-0600
TZOFFSETTO:-0700
RDATE:20191103T020000
RDATE:20201101T020000
END:STANDARD
BEGIN:DAYLIGHT
TZNAME:MDT
DTSTART:20190310T020000
TZOFFSETFROM:-0700
TZOFFSETTO:-0600
RDATE:20200308T020000
RDATE:20210314T020000
END:DAYLIGHT
END:VTIMEZONE
BEGIN:VEVENT
UID:cb2da3fd-247d-4cf3-b44b-f42a53f1c212
DTSTAMP:20260420T025603Z
DESCRIPTION:
DTSTART;TZID=America/Denver:20190920T000000
DTEND;TZID=America/Denver:20190920T235900
LOCATION:San Francisco
SUMMARY:Special Program for High School Students
END:VEVENT
END:VCALENDAR
